BEGIN:VCALENDAR
VERSION:2.0
PRODID:-//Royal Pekan Golf Club - ECPv6.3.5//NONSGML v1.0//EN
CALSCALE:GREGORIAN
METHOD:PUBLISH
X-WR-CALNAME:Royal Pekan Golf Club
X-ORIGINAL-URL:https://royalpekan-gc.com
X-WR-CALDESC:Events for Royal Pekan Golf Club
REFRESH-INTERVAL;VALUE=DURATION:PT1H
X-Robots-Tag:noindex
X-PUBLISHED-TTL:PT1H
BEGIN:VTIMEZONE
TZID:UTC
BEGIN:STANDARD
TZOFFSETFROM:+0000
TZOFFSETTO:+0000
TZNAME:UTC
DTSTART:20220101T000000
END:STANDARD
END:VTIMEZONE
BEGIN:VEVENT
DTSTART;VALUE=DATE:20220827
DTEND;VALUE=DATE:20220829
DTSTAMP:20260423T210231
CREATED:20220404T042235Z
LAST-MODIFIED:20220404T042235Z
UID:1940-1661558400-1661731199@royalpekan-gc.com
SUMMARY:MONTHLY MEDAL MERDEKA CHALLENGE
DESCRIPTION:
URL:https://royalpekan-gc.com/event/monthly-medal-merdeka-challenge-2/
END:VEVENT
END:VCALENDAR