BEGIN:VCALENDAR
VERSION:2.0
PRODID:-//Royal Pekan Golf Club - ECPv6.3.5//NONSGML v1.0//EN
CALSCALE:GREGORIAN
METHOD:PUBLISH
X-ORIGINAL-URL:https://royalpekan-gc.com
X-WR-CALDESC:Events for Royal Pekan Golf Club
REFRESH-INTERVAL;VALUE=DURATION:PT1H
X-Robots-Tag:noindex
X-PUBLISHED-TTL:PT1H
BEGIN:VTIMEZONE
TZID:UTC
BEGIN:STANDARD
TZOFFSETFROM:+0000
TZOFFSETTO:+0000
TZNAME:UTC
DTSTART:20220101T000000
END:STANDARD
END:VTIMEZONE
BEGIN:VEVENT
DTSTART;VALUE=DATE:20220719
DTEND;VALUE=DATE:20220722
DTSTAMP:20260421T020506
CREATED:20220602T165850Z
LAST-MODIFIED:20220602T170318Z
UID:7227-1658188800-1658447999@royalpekan-gc.com
SUMMARY:PGM Pahang Championship
DESCRIPTION:
URL:https://royalpekan-gc.com/event/pgm-pahang-championship/
CATEGORIES:Tournament
ATTACH;FMTTYPE=image/jpeg:https://royalpekan-gc.com/wp-content/uploads/2022/06/Calendar-2022-PGM-Tour.jpeg
END:VEVENT
BEGIN:VEVENT
DTSTART;VALUE=DATE:20220618
DTEND;VALUE=DATE:20220619
DTSTAMP:20260421T020506
CREATED:20220602T165556Z
LAST-MODIFIED:20220602T165556Z
UID:7225-1655510400-1655596799@royalpekan-gc.com
SUMMARY:PERODUA National Amateur Golf Series
DESCRIPTION:
URL:https://royalpekan-gc.com/event/perodua-national-amateur-golf-series/
CATEGORIES:Tournament
ATTACH;FMTTYPE=image/jpeg:https://royalpekan-gc.com/wp-content/uploads/2022/06/PNAGS-2022-800p-x-800p-banner_05-Pahang-Leg-768x768-1.jpg
END:VEVENT
END:VCALENDAR